BEGIN:VCALENDAR
VERSION:2.0
PRODID:-//Library Market//iCal Export//EN
BEGIN:VEVENT
SUMMARY:Influenced to Read Book Club
UID:466
DTSTAMP:20260421T104100Z
DTSTART:20241205T003000Z
DTEND:20241205T013000Z
LOCATION:Watertown Public Library, 100 S. Water St., Watertown, WI 53094, 
 United States
ROOM: Conference Room
DESCRIPTION:Have you been following BookTok on TikTok, or Bookstagram on I
 nstagram, or book groups on Facebook? Are you wanting to join a book club 
 that doesn’t tell you what books to read? Well, Influenced to Read Book 
 Club is for you! We will be meeting once a month to discuss what books are
  catching our attention. We can decide to do buddy reads, or pick a book i
 n a smaller group, or just share what we’re reading individually. We can
  also talk about which book reviewers we find most compelling on social me
 dia! Plus there might be time to just read our books!( Any genre is welcom
 e from graphic novels to nonfiction!)
URL:https://www.watertownpubliclibrary.org/event/influenced-read-book-club
 -466
END:VEVENT
END:VCALENDAR
