BEGIN:VCALENDAR
VERSION:2.0
PRODID:-//Library Market//iCal Export//EN
BEGIN:VEVENT
SUMMARY:Tech Tutor
UID:3229
DTSTAMP:20260421T075100Z
DTSTART:20250129T230000Z
DTEND:20250130T000000Z
LOCATION:Watertown Public Library, 100 S. Water St., Watertown, WI 53094, 
 United States
ROOM: Tech Tutor
DESCRIPTION:Do you have specific questions about your smartphone, tablet, 
 or laptop? Make an appointment with the Tech Tutor to help answer you spec
 ific questions. Tech Tutor cannot help set up your device however. Please 
 have any needed passwords with you if you think you will need to download 
 an app. Registration is required by calling the library at 920-545-2331.
URL:https://www.watertownpubliclibrary.org/event/tech-tutor-3229
END:VEVENT
END:VCALENDAR
