BEGIN:VCALENDAR
VERSION:2.0
PRODID:-//Library Market//iCal Export//EN
BEGIN:VEVENT
SUMMARY:Homeschool Tuesday
UID:2464
DTSTAMP:20260421T080300Z
DTSTART:20250204T173000Z
DTEND:20250204T183000Z
LOCATION:Watertown Public Library, 100 S. Water St., Watertown, WI 53094, 
 United States
ROOM: Community Room
DESCRIPTION:Our popular Homeschool Tuesday program specifically designed f
 or homeschool families, will meet in the library Community Room for some s
 pecial learning opportunities.  Registration is required.February 4: Home
 school Science FairOur Science Fair is back! Register your child/teen to b
 ring a science project of their choice to present on February 4th!The scie
 nce fair will be held here in the community room and will be open to the p
 ublic! Feel free to invite friends and family to the presentation as well.
  This will be a great opportunity to show what you’ve been learning at h
 ome! Families can come as early as 11 to set up the day of :)Four steps r
 equired to doing a science fair project:Pick a science fair project idea.F
 ollow either the scientific method (if your project asks a scientific ques
 tion), or the engineering design process (if your project identifies a pro
 blem to solve), to complete the hands-on part of your science fair project
 .Create a science fair display board and/or presentation that explains wha
 t you did, shows your data, and presents your conclusions.Practice answeri
 ng questions and talking about your science fair project so that you are r
 eady to discuss it with the science fair attendees.We can&#039;t wait to s
 ee everyone&#039;s projects!
URL:https://www.watertownpubliclibrary.org/event/homeschool-tuesday-2464
END:VEVENT
END:VCALENDAR
